Workbook

Sheet Указание
A1: НАЦИОНАЛНА СПОРТНА АКАДЕМИЯ „ВАСИЛ ЛЕВСКИ”
A2: Атестация на академичния състав
A4: Указание за ползване на калкулатора
A6: Клетките с бледожълт фон са за попълване на информация. В тях се попълва вашето име, както и бройките по отделните показатели.
A7: Клетките с бледозелен фон са падащи менюта. Изберете правилната информация от списъка в тях.
A8: Всички други клетки се изчисляват и попълват автоматично!
A10: Последователност:
A11: Стъпка 1 | B11: Попълват се данните на атестирания в "Атестационен лист"
A12: Стъпка 2 | B12: Попълват се данните по отделните критерии
A13: Стъпка 3 | B13: Крайната оценка се изчислява автоматично в "Атестационен лист"
A15: След всеки показател в скоби е описана стойността, която трябва да се попълни. (брой/брой години/точки)
A16: Показатели, при които стойностите са предварително определени според правилника, са представени с падащо меню.
A17: Колоните със стойностите на точките за всеки показател, както и колоните с резултатите, които се изчисляват аватоматично, са защитени против случайни промени, но не са заключени. При опит за промяна ще се появи предупредителен прозорец с искане за потвърждение на промяната.
D19: Дата на последна редакция: | E19: 46098

Sheet Атестационен лист
A1: НАЦИОНАЛНА СПОРТНА АКАДЕМИЯ „ВАСИЛ ЛЕВСКИ”
A2: Атестация на академичния състав
A4: Атестационен лист
A6: Общи данни за атестирания
A7: Име, Презиме, Фамилия:
A8: Научно звание: | C8: Главен асистент
A9: Научна степен: | C9: Доктор
A10: Катедра:
A11: Факултет: | C11: =IF(C10="","",IF(COUNTIF(Faculty!A2:A8,C10)>0,Faculty!A1,IF(COUNTIF(Faculty!B2:B6,C10)>0,Faculty!B1,IF(COUNTIF(Faculty!C2:C9,C10)>0,Faculty!C1,""))))
A13: Атестационна Оценка
A14: Критерий | D14: Количествена оценка | E14: Словесна оценка
A15: І. Преподавателска дейност (К1) | D15: =IF(ISNUMBER('KP1'!B35),'KP1'!B35,"") | E15: ='KP1'!B34
A16: ІІ. Научно-изследователска дейност (К2) | D16: =IF(ISNUMBER('KP2'!B56),'KP2'!B56,"") | E16: ='KP2'!B55
A17: ІІІ. Експертна дейност (К3) | D17: =IF(ISNUMBER('KP3'!B48),'KP3'!B48,"") | E17: ='KP3'!B47
A18: ІV. Академична етика, дисциплина (К4) | D18: =IF(ISNUMBER('KP4'!B12),'KP4'!B12,"") | E18: ='KP4'!B11
A19: V. Оценка на студентите (К5) | D19: =IF(ISNUMBER('KP5'!B8),'KP5'!B8,"") | E19: ='KP5'!B7
A20: Обща атестационна оценка (0,4К1+0,2К2+0,2К3+0,1К4+0,1К5) | D20: =IF(COUNT(D15:D19)=5,0.4*D15+0.2*D16+0.2*D17+0.1*D18+0.1*D19,"") | E20: =IF(D20="","",IF(D20<1,"Незадоволителна", IF(D20<5, "Задоволителна", IF(D20<9, "Добра", IF(D20>8.9, "Много добра","")))))
A22: Препоръки на Комисията по атестиране:
A26: Председател на комисията: | C26: Членове на комисията:
D27: 1
D28: 2
D29: 3
D30: 4
D31: 5
C32: Секретар:
C34: Ръководител катедра:
A35: София
A36: дата: | C36: Подпис на атестирания:

Sheet KP1
A1: Критерий І Учебно-преподавателска дейност
A2: Показатели | B2: Количество | C2: Точки | D2: Резултат
A3: І.1. Аудиторна заетост
A4: І.1.1. Изпълнение над 100% (брой години) | C4: 10 | D4: =IF(B4="","",B4*C4)
A5: І.1.2. Изпълнение между 80 и 99% (брой години) | C5: 8 | D5: =IF(B5="","",B5*C5)
A6: І.1.3. Изпълнение под 80% (брой години) | C6: 4 | D6: =IF(B6="","",B6*C6)
A7: І.2. Аудиторна заетост извън НСА
A8: І.2.1. Университети в страната (брой покани) | C8: 1 | D8: =IF(B8="","",B8*C8)
A9: І.2.2. Университети в чужбина (брой покани) | C9: 2 | D9: =IF(B9="","",B9*C9)
A10: І.3. Извънаудиторна заетост
A11: І.3.1. Изпълнение над 100% (брой години) | C11: 10 | D11: =IF(B11="","",B11*C11)
A12: І.3.2. Изпълнение между 80 и 99% (брой години) | C12: 8 | D12: =IF(B12="","",B12*C12)
A13: І.3.3. Изпълнение под 80% (брой години) | C13: 4 | D13: =IF(B13="","",B13*C13)
A14: I.4. Успеваемост на студентите (важи само за хабилитирани преподаватели)
A15: I.4.1 над 60% успеваемост на редовна и поправителна сесия (брой години) | C15: 3 | D15: =IF(B15="","",IF(OR('Атестационен лист'!$C$8="Доцент",'Атестационен лист'!$C$8="Професор"),IF(B15="","",B15*C15),IF(OR('Атестационен лист'!$C$8="Асистент",'Атестационен лист'!$C$8="Главен асистент"),"Непр.","Попълн. Атест.л.")))
A16: I.4.2 между 40 и 60% успеваемост на редовна и поправителна сесия (брой години) | C16: 2 | D16: =IF(B16="","",IF(OR('Атестационен лист'!$C$8="Доцент",'Атестационен лист'!$C$8="Професор"),IF(B16="","",B16*C16),IF(OR('Атестационен лист'!$C$8="Асистент",'Атестационен лист'!$C$8="Главен асистент"),"Непр.","Попълн. Атест.л.")))
A17: I.4.3 под 40% успеваемост на редовна и поправителна сесия (брой години) | C17: 1 | D17: =IF(B17="","",IF(OR('Атестационен лист'!$C$8="Доцент",'Атестационен лист'!$C$8="Професор"),IF(B17="","",B17*C17),IF(OR('Атестационен лист'!$C$8="Асистент",'Атестационен лист'!$C$8="Главен асистент"),"Непр.","Попълн. Атест.л.")))
A18: І.5. Издадена учебно-методична литература
A19: І.5.1. Самостоятелен автор на публикуван университетски учебник или учебник, който се използва в училищната мрежа (брой) | C19: 10 | D19: =IF(B19="","",B19*C19)
A20: І.5.2. Участие в авторски колектив на публикуван университетски учебник или учебник, който се използва в училищната мрежа (брой) | C20: 8 | D20: =IF(B20="","",B20*C20)
A21: І.5.3. Самостоятелен автор или участие в авторски колектив на публикувано университетско учебно пособие или учебно пособие, което се използва в училищната мрежа (брой) | C21: 4 | D21: =IF(B21="","",B21*C21)
A22: І.6. Ръководство на разработки с учебно-методичен характер
A23: І.6.1. Дипломни работи – ОКС „магистър" (брой) | C23: 6 | D23: =IF(B23="","",B23*C23)
A24: І.6.2. Дипломни работи – ОКС „бакалавър" (брой) | C24: 4 | D24: =IF(B24="","",B24*C24)
A25: І.6.3. Рецензии на дипломни работи (брой) | C25: 3 | D25: =IF(B25="","",B25*C25)
A26: І.7. Обновяване на учебното съдържание – участие в разработване на:
A27: І.7.1. Нови специалности (учебни планове – брой) | C27: 10 | D27: =IF(B27="","",B27*C27)
A28: І.7.2. Актуализирани учебни програми (брой) | C28: 5 | D28: =IF(B28="","",B28*C28)
A29: І.8. Друга дейност, призната от катедрата
A30: 1.8.1. Дейност със студенти по програма „Еразъм“ (брой студенти) | C30: 8 | D30: =IF(B30="","",B30*C30)
A31: 1.8.2. Дейност, оценена до 5 т. (точки) | C31: до 5 | D31: =IF(B31="","",IF(B31>5, 5,B31))
A32: 1.8.3. Дейност, оценена до 3 т. (точки) | C32: до 3 | D32: =IF(B32="","",IF(D31="","Грешка", IF(B32>3, 3,B32)))
A33: Критерий І – Резултати | D33: =IF(COUNT(D4:D32)>0,SUM(D4:D32),"")
A34: Критерий І - словесна оценка | B34: =IF(OR(B35="",B35="Попълнете Атестационен лист"),"",IF(B35=0, "Незадоволителна", IF(B35=3, "Задоволителна",IF(B35=7,"Добра",IF(B35=10,"Много добра","")))))
A35: Критерий І - количествено изражение | B35: =IF(D33="","",IF('Атестационен лист'!C8="","Попълнете Атестационен лист",IF(OR('Атестационен лист'!C8="Доцент",'Атестационен лист'!C8="Професор"),IF(D33<=109,0,IF(D33<=134,3,IF(D33<=161,7,IF(D33>161,10,"")))),IF(D33<45,0,IF(D33<55,3,IF(D33<66,7,IF(D33>65,10,"")))))))
A36: Участие на критерий І в крайната оценка (тегло 0,4) | B36: =IF(OR(B35="",B35="Попълнете Атестационен лист"),"",B35*0.4)

Sheet KP2
A1: Критерий ІІ Научна дейност
A2: Показатели | B2: Количество | C2: Точки | D2: Резултат
A3: ІІ.1. Собствено научно развитие
A4: ІІ.1.1. Дисертационен труд за присъждане на ОНС „доктор“ | C4: 10 | D4: =IF(B4="ДА",C4,"")
A5: ІІ.1.2. Дисертационен труд за присъждане на НС „доктор на науките“ | C5: 10 | D5: =IF(B5="ДА",C5,"")
A6: ІІ.1.3. Спечелен конкурс за хабилитация | C6: 10 | D6: =IF(B6="ДА",C6,"")
A7: ІІ.2. Ръководство на докторанти
A8: ІІ.2.1. Защитили докторанти (брой) | C8: 10 | D8: =IF(B8="","",B8*C8)
A9: ІІ.2.2. Ръководство на докторант с положен изпит за кандидатски минимум (брой) | C9: 9 | D9: =IF(B9="","",B9*C9)
A10: ІІ.2.3. Ръководство на докторант (брой) | C10: 8 | D10: =IF(B10="","",B10*C10)
A11: ІІ.3. Публична рецензентска дейност
A12: ІІ.3.1. Рецензия за ОНС „доктор” (брой) | C12: 5 | D12: =IF(B12="","",B12*C12)
A13: ІІ.3.2. Становище за ОНС “доктор” (брой) | C13: 4 | D13: =IF(B13="","",B13*C13)
A14: ІІ.3.3. Рецензия за НС „Доктор на науките”(брой) | C14: 9 | D14: =IF(B14="","",B14*C14)
A15: ІІ.3.4. Становище за НС “Доктор на науките” (брой) | C15: 8 | D15: =IF(B15="","",B15*C15)
A16: ІІ.3.5. Участие в научно жури за главен асистент (брой) | C16: 3 | D16: =IF(B16="","",B16*C16)
A17: ІІ.3.7. Рецензия за доцент (брой) | C17: 7 | D17: =IF(B17="","",B17*C17)
A18: ІІ.3.8. Становище за доцент (брой) | C18: 6 | D18: =IF(B18="","",B18*C18)
A19: ІІ.3.9. Рецензия за професор (брой) | C19: 10 | D19: =IF(B19="","",B19*C19)
A20: ІІ.3.10. Становище за професор (брой) | C20: 8 | D20: =IF(B20="","",B20*C20)
A21: ІІ.3.11. Рецензия на книги (брой) | C21: 4 | D21: =IF(B21="","",B21*C21)
A22: ІІ.3.12. Рецензия на статия в национални издания фигуриращи в НАЦИД, в списък „Реферирани и индексирани издания” https://randii.nacid.bg/register/search (брой) | C22: 2 | D22: =IF(B22="","",B22*C22)
A23: ІІ.3.13. Рецензия на статия в чужбина. Изготвена и верифицирана рецензия на статия в научни издания, реферирани и индексирани в световноизвестни бази данни с научна информация (видими в Scopus и Web of Science) (брой) | C23: 10 | D23: =IF(B23="","",B23*C23)
A24: ІІ.4. Публикационна активност
A25: ІІ.4.1. Издадени монографии (брой) | C25: 10 | D25: =IF(B25="","",B25*C25)
A26: ІІ.4.2. Издадени книги или публикувана глава от монография (брой) | C26: 8 | D26: =IF(B26="","",B26*C26)
A27: ІІ.4.3. Статии/студии, публикувани в научни издания, реферирани и индексирани в световноизвестни бази данни с научна информация (брой) | C27: 7 | D27: =IF(B27="","",B27*C27)
A28: ІІ.4.4. Статии/студии, публикувани в нереферирани списания с научно рецензиране или публикувани в редакционни колективни томове (брой) | C28: 4 | D28: =IF(B28="","",B28*C28)
A29: ІІ.4.5. Изнесени, но непубликувани доклади на научни форуми | C29: 2
A30: II.4.6. Методична помощ на студенти за съвместно участие в научни пълнотекстови публикации (брой статии) | C30: 4 | D30: =IF(B30="","",B30*C30)
A31: ІІ.5. Цитирания (без автоцитирания)
A32: ІІ.5.1. Цитирания или рецензии в научни издания, реферирани и индексирани в световноизвестни бази данни (с импакт фактор (IF) в Web of Science и/или с импакт ранг (SJR) в Scopus ) (брой) | C32: 10 | D32: =IF(B32="","",B32*C32)
A33: ІІ.5.2. Цитирания в реферирани и индексирани издания, отразени в други бази данни с научна информация (ERIHPLUS, EBSCO, EBSCO-SPORTDiscus, PubMed, DOAJ) (брой) | C33: 8 | D33: =IF(B33="","",B33*C33)
A34: ІІ.5.3. Цитирания в дисертации, монографии и колективни томове с научно рецензиране (брой) | C34: 6 | D34: =IF(B34="","",B34*C34)
A35: ІІ.5.4. Цитирания в национални издания фигуриращи в НАЦИД, в списък „Реферирани и индексирани издания” (брой) https://randii.nacid.bg/register/search | C35: 4 | D35: =IF(B35="","",B35*C35)
A36: ІІ.5.5. Цитирания в международни неиндексирани издания (брой) | C36: 3 | D36: =IF(B36="","",B36*C36)
A37: ІІ.5.6. Цитирания или рецензии в нереферирани списания с научно рецензиране в страната (брой) | C37: 2 | D37: =IF(B37="","",B37*C37)
A38: ІІ.6. Научни форуми (конференция/конгрес)
A39: ІІ.6.1. Пленарен доклад на международен форум (брой) | C39: 10 | D39: =IF(B39="","",B39*C39)
A40: ІІ.6.2. Доклад на международен форум (брой) | C40: 9 | D40: =IF(B40="","",B40*C40)
...

Sheet KP3
A1: Критерий ІІІ Експертна дейност
A2: Показатели | B2: Количество | C2: Точки | D2: Резултат
A3: ІІІ.1. Членство в научни и образователни организации
A4: ІІІ.1.1. Членство в национални и международни научни и образователни организации (брой, брой години) | C4: 5 | D4: =IF(B4="","",B4*C4)
A5: ІІІ.1.2. Членство в редколегии на научни списания (брой, брой години) | C5: 3 | D5: =IF(B5="","",B5*C5)
A6: ІІІ.2. Участие в научни/образователни проекти
A7: ІІІ.2.1. Ръководство на международен научен или образователен проект (брой) | C7: 5 | D7: =IF(B7="","",B7*C7)
A8: ІІІ.2.2. Ръководство на национален / институционален научен или образователен проект (брой) | C8: 4 | D8: =IF(B8="","",B8*C8)
A9: ІІІ.2.3. Участие в международен научен или образователен проект (брой) | C9: 3 | D9: =IF(B9="","",B9*C9)
A10: ІІІ.2.4. Участие в национален / институционален научен или образователен проект (брой) | C10: 2 | D10: =IF(B10="","",B10*C10)
A11: ІІІ.3. Участие в организацията на научни/образователни прояви
A12: ІІІ.3.1. На международно ниво (брой прояви) | C12: 10 | D12: =IF(B12="","",B12*C12)
A13: ІІІ.3.2. На национално ниво (брой прояви) | C13: 5 | D13: =IF(B13="","",B13*C13)
A14: ІІІ.3.3. В НСА (брой прояви) | C14: 3 | D14: =IF(B14="","",B14*C14)
A15: ІІІ.4. Треньорска/лечебна и профилактична дейност
A16: ІІІ.4.1. ... на състезатели на световно и олимпийско ниво (брой години) | C16: 10 | D16: =IF(B16="","",B16*C16)
A17: ІІІ.4.2. Завоювани отличия от международни спортни състезания | C17: 10 | D17: =IF(B17="","",B17*C17)
A18: ІІІ.4.3. ... на състезатели на национално ниво (брой години) | C18: 3 | D18: =IF(B18="","",B18*C18)
A19: ІІІ.4.4. Завоювани отличия от национални спортни състезания | C19: 8 | D19: =IF(B19="","",B19*C19)
A20: ІІІ.4.5. ... лекарска, кинезитерапевтична практика (брой години) | C20: 10 | D20: =IF(B20="","",B20*C20)
A21: ІІІ.4.6. … по договор с лечебно заведение (брой години) | C21: 3 | D21: =IF(B21="","",B21*C21)
A22: ІІІ.4.7. Придобита медицинска специалност | C22: 10 | D22: =IF(B22="","",B22*C22)
A23: ІІІ.5. Участие в ръководството на:
A24: ІІІ.5.1. Международни спортни федерации (брой години) | C24: 10 | D24: =IF(B24="","",B24*C24)
A25: ІІІ.5.2. Национални спортни федерации (брой години) | C25: 6 | D25: =IF(B25="","",B25*C25)
A26: ІІІ.5.3. Спортни клубове (брой години) | C26: 3 | D26: =IF(B26="","",B26*C26)
A27: ІІІ.5.4. Международни професионални и съсловни организации (брой години) | C27: 10 | D27: =IF(B27="","",B27*C27)
A28: ІІІ.5.5. Национални професионални и съсловни организации (брой години) | C28: 3 | D28: =IF(B28="","",B28*C28)
A29: ІІІ.6. Участие в ръководството на:
A30: ІІІ.6.1. Ръководител на докторска, магистърска програма, център, лаборатория, мениджър на база (брой години) | C30: 5 | D30: =IF(B30="","",B30*C30)
A31: ІІІ.6.2. Ръководител на сектор (брой години) | C31: 5 | D31: =IF(B31="","",B31*C31)
A32: ІІІ.6.3. Курсов ръководител (брой години) | C32: 2 | D32: =IF(B32="","",B32*C32)
A33: ІІІ.7. Участие в съвети и комисии на институционално и факултетно ниво
A34: ІІІ.7.1. Държавни изпитни комисии (брой години) | C34: 2 | D34: =IF(B34="","",B34*C34)
A35: ІІІ.7.2. Академичен съвет (брой години) | C35: 4 | D35: =IF(B35="","",B35*C35)
A36: ІІІ.7.3. Факултетен съвет (брой години) | C36: 4 | D36: =IF(B36="","",B36*C36)
A37: ІІІ.7.4. Експертен съвет (брой години) | C37: 2 | D37: =IF(B37="","",B37*C37)
A38: ІІІ.7.5. Участие в комисии на факултетно ниво (брой години) | C38: 5 | D38: =IF(B38="","",B38*C38)
A39: ІІІ.8. Експертна, консултантска и друга дейност в помощ на институции и органи на управление
A40: III.8.1. Становища в помощ на институции и органи на управление (брой) | C40: 4 | D40: =IF(B40="","",B40*C40)
...

Sheet KP4
A1: Критерий ІV Квалификация, трудова дисциплина, академична етика
A2: Показатели | B2: Количество | C2: Точки | D2: Резултат
A3: ІV.1. Владеене на чужди езици
A4: ІV.1.1. Писмено и говоримо (брой) | C4: 10 | D4: =IF(B4="","",B4*C4)
A5: ІV.1.2. Само говоримо (брой) | C5: 5 | D5: =IF(B5="","",B5*C5)
A6: ІV.2. Компютърна грамотност | C6: =IF(B6="Висока", 10,IF(B6="Средна",5,IF(B6="Няма",0,IF(B6="","")))) | D6: =C6
A7: ІV.3. Специализации, курсове СДК, обучение в чужбина (брой) | C7: 10 | D7: =IF(B7="","",B7*C7)
A8: ІV.4. Средна оценка от анкетното проучване | C8: =IF(B8="","",IF(B8="До 3.0",0,IF(B8="От 3.1 до 4.0",3,IF(B8="От 4.1 до 5.3", 7, IF(B8="Над 5.3", 10))))) | D8: =C8
A9: ІV.5. Наказания (дисциплинарни, за нарушени етични правила) | C9: =IF(B9="","",IF(B9="Няма",0,IF(B9="Забележка",-5,IF(B9="Предупреждение", -10)))) | D9: =C9
A10: Критерий ІV – точки | D10: =IF(COUNT(D4:D9)>0,SUM(D4:D9),"")
A11: Критерий ІV - словесна оценка | B11: =IF(B12="","",IF(B12=0, "Незадоволителна", IF(B12=3, "Задоволителна",IF(B12=7,"Добра",IF(B12=10,"Много добра")))))
A12: Критерий ІV - количествено изражение | B12: =IF(D10="","",IF(D10<16, 0, IF(D10<26, 3,IF(D10<36,7,IF(D10>35,10)))))
A13: Участие на критерий ІV в крайната оценка (тегло 0,1) | B13: =IF(B12="","",B12*0.1)

Sheet KP5
A1: Критерий V Оценка на студентите и външните потребители
A2: Показатели | B2: Количество | C2: Точки | D2: Резултат
A3: V.1. Средна оценка от анкетата сред студентите | C3: =IF(B3="","",IF(B3="До 3.0",0,IF(B3="От 3.1 до 4.0",3,IF(B3="От 4.1 до 5.3", 7, IF(B3="Над 5.3", 10))))) | D3: =C3
A4: V.2. Оценка от посещението на факултетната комисия по атестация | C4: =IF(B4="Много добра", 10,IF(B4="Добра",7,IF(B4="Задовол.",3,IF(B4="Незадов.",0,IF(B4="",""))))) | D4: =C4
A5: V.3. Официални положителни отзиви (Бр.) | C5: 10 | D5: =IF(B5="","",B5*C5)
A6: Критерий V – точки | D6: =IF(COUNT(D3:D5)>0,SUM(D3:D5),"")
A7: Критерий ІV - словесна оценка | B7: =IF(B8="","",IF(B8=0, "Незадоволителна", IF(B8=3, "Задоволителна",IF(B8=7,"Добра",IF(B8=10,"Много добра","")))))
A8: Критерий ІV - количествено изражение | B8: =IF(D6="","",IF(D6<5, 0, IF(D6<11, 3,IF(D6<20,7,IF(D6>19,10,"")))))
A9: Участие на критерий ІV в крайната оценка (тегло 0,1) | B9: =IF(B8="","",B8*0.1)

Sheet Faculty
A1: Спорт | B1: Педагогика | C1: Обществено здраве, здравни грижи и туризъм
A2: Теория на спорта | B2: Теория и методика на физическото възпитание | C2: Теория и методика на кинезитерапията
A3: Футбол и тенис | B3: Баскетбол, волейбол, хандбал | C3: Кинезитерапия и рехабилитация
A4: Мениджмънт и история на спорта | B4: Лека атлетика | C4: Гимнастика
A5: Физиология и биохимия | B5: Психология, педагогика, социология | C5: Водни спортове
A6: Борба и джудо | B6: Анатомия и биомеханика | C6: Спортна медицина
A7: Тежка атлетика, бокс, фехтовка и спорт за всички | C7: Туризъм, алпинизъм, ориентиране
A8: Технически и ледени спортове | C8: Снежни спортове
C9: Здравни грижи
